BEGIN:VCALENDAR
VERSION:2.0
PRODID:-//eventon.com NONSGML v1.0//EN
CALSCALE:GREGORIAN
METHOD:PUBLISH
BEGIN:VEVENT
UID:69ea2681b4e42
DTSTAMP:20260423T140241Z
DTSTART:20260428T170000Z
DTEND:20260428T180000Z
LOCATION:
SUMMARY:Νόσοι του περιοδοντίου στους νεαρούς ασθενείς: πρόσφατες οδηγίες\,  πρακτικές και τεκμηρίωση
DESCRIPTION:Ομιλήτρια: Σωτηρία Γκιζάνη\,  Καθηγ
 ήτρια Παιδοδοντιατρικής του ΕΚΠΑ Το διαδ
 ικτυακό σεμινάριο διεξάγεται με την ευγε
 νική χορηγία της HALEON και για τη δωρεάν πα
 ακολούθηση είναι απαραίτητη η έκδοση κω
 ικού. Για περισσότερες πληροφορίες για τ
 η διαδικασία έκδοσης κωδικού επισκεφθεί
 ε το παρακάτω σύνδεσμο https://services.akonkorimvos.g
 r\nhttps://periodontology.gr/events/%ce%bd%cf%8c%cf%83%ce%bf%ce%b9-%cf%84%c
 e%bf%cf%85-%cf%80%ce%b5%cf%81%ce%b9%ce%bf%ce%b4%ce%bf%ce%bd%cf%84%ce%af%ce%
 bf%cf%85-%cf%83%cf%84%ce%bf%cf%85%cf%82-%ce%bd%ce%b5%ce%b1%cf%81%ce%bf%cf%8
 d%cf%82/
URL:https://periodontology.gr/events/%ce%bd%cf%8c%cf%83%ce%bf%ce%b9-%cf%84%ce%bf%cf%85-%cf%80%ce%b5%cf%81%ce%b9%ce%bf%ce%b4%ce%bf%ce%bd%cf%84%ce%af%ce%bf%cf%85-%cf%83%cf%84%ce%bf%cf%85%cf%82-%ce%bd%ce%b5%ce%b1%cf%81%ce%bf%cf%8d%cf%82/
END:VEVENT
END:VCALENDAR